BEGIN:VCALENDAR
VERSION:2.0
PRODID:-//Treasure Valley Classical Academy - ECPv6.15.20//NONSGML v1.0//EN
CALSCALE:GREGORIAN
METHOD:PUBLISH
X-ORIGINAL-URL:https://www.tvcacademy.org
X-WR-CALDESC:Events for Treasure Valley Classical Academy
REFRESH-INTERVAL;VALUE=DURATION:PT1H
X-Robots-Tag:noindex
X-PUBLISHED-TTL:PT1H
BEGIN:VTIMEZONE
TZID:UTC
BEGIN:STANDARD
TZOFFSETFROM:+0000
TZOFFSETTO:+0000
TZNAME:UTC
DTSTART:20240101T000000
END:STANDARD
END:VTIMEZONE
BEGIN:VEVENT
DTSTART;VALUE=DATE:20250404
DTEND;VALUE=DATE:20250405
DTSTAMP:20260424T163026
CREATED:20250331T164525Z
LAST-MODIFIED:20250331T164525Z
UID:9258-1743724800-1743811199@www.tvcacademy.org
SUMMARY:Upper School P-T Conferences/Elementary Workday (NO SCHOOL K-11)
DESCRIPTION:Friday\, April 4th: Upper School P-T Conferences/Elementary Workday (NO SCHOOL K-11)
URL:https://www.tvcacademy.org/event/upper-school-p-t-conferences-elementary-workday-no-school-k-11/
LOCATION:ID
END:VEVENT
BEGIN:VEVENT
DTSTART;VALUE=DATE:20250407
DTEND;VALUE=DATE:20250408
DTSTAMP:20260424T163026
CREATED:20250331T164643Z
LAST-MODIFIED:20250331T164643Z
UID:9260-1743984000-1744070399@www.tvcacademy.org
SUMMARY:Elementary P-T Conferences/Upper School Workday (NO SCHOOL K-11)
DESCRIPTION:Monday\, April 7th: Elementary P-T Conferences/Upper School Workday (NO SCHOOL K-11)
URL:https://www.tvcacademy.org/event/elementary-p-t-conferences-upper-school-workday-no-school-k-11/
LOCATION:ID
END:VEVENT
BEGIN:VEVENT
DTSTART;TZID=UTC:20250408T190000
DTEND;TZID=UTC:20250408T200000
DTSTAMP:20260424T163026
CREATED:20250331T164836Z
LAST-MODIFIED:20250331T164836Z
UID:9262-1744138800-1744142400@www.tvcacademy.org
SUMMARY:Upper School College Financial Aid Night
DESCRIPTION:Tuesday\, April 8th: Upper School College Financial Aid Night\, 7:00 – 8:00pm
URL:https://www.tvcacademy.org/event/upper-school-college-financial-aid-night/
LOCATION:ID
END:VEVENT
BEGIN:VEVENT
DTSTART;TZID=UTC:20250412T074500
DTEND;TZID=UTC:20250412T213000
DTSTAMP:20260424T163026
CREATED:20250331T165046Z
LAST-MODIFIED:20250331T165046Z
UID:9264-1744443900-1744493400@www.tvcacademy.org
SUMMARY:Middle School Dance
DESCRIPTION:Saturday April 12th: Middle School Dance\,  7:45-9:30pm
URL:https://www.tvcacademy.org/event/middle-school-dance/
LOCATION:ID
END:VEVENT
BEGIN:VEVENT
DTSTART;VALUE=DATE:20250417
DTEND;VALUE=DATE:20250418
DTSTAMP:20260424T163026
CREATED:20250331T165255Z
LAST-MODIFIED:20250331T165255Z
UID:9266-1744848000-1744934399@www.tvcacademy.org
SUMMARY:FREE Movie Night at the Parma Drive-In
DESCRIPTION:Thursday\, April 17th: FREE movie night at the Parma Drive-In
URL:https://www.tvcacademy.org/event/free-movie-night-at-the-parma-drive-in/
LOCATION:ID
END:VEVENT
BEGIN:VEVENT
DTSTART;VALUE=DATE:20250418
DTEND;VALUE=DATE:20250419
DTSTAMP:20260424T163026
CREATED:20250331T165427Z
LAST-MODIFIED:20250331T165427Z
UID:9268-1744934400-1745020799@www.tvcacademy.org
SUMMARY:No School
DESCRIPTION:Friday\, April 18th: No School
URL:https://www.tvcacademy.org/event/no-school/
LOCATION:ID
END:VEVENT
BEGIN:VEVENT
DTSTART;TZID=UTC:20250422T190000
DTEND;TZID=UTC:20250422T203000
DTSTAMP:20260424T163026
CREATED:20250331T165649Z
LAST-MODIFIED:20250331T165712Z
UID:9270-1745348400-1745353800@www.tvcacademy.org
SUMMARY:Upper School Town Hall Meeting
DESCRIPTION:Tuesday\, April 22nd: Upper School Town Hall Meeting\, 7:00 pm
URL:https://www.tvcacademy.org/event/upper-school-town-hall-meeting/
LOCATION:ID
END:VEVENT
BEGIN:VEVENT
DTSTART;TZID=UTC:20250426T200000
DTEND;TZID=UTC:20250426T230000
DTSTAMP:20260424T163026
CREATED:20250331T165910Z
LAST-MODIFIED:20250331T165910Z
UID:9272-1745697600-1745708400@www.tvcacademy.org
SUMMARY:TVCA High School Prom
DESCRIPTION:Saturday\, April 26th: TVCA High School Prom
URL:https://www.tvcacademy.org/event/tvca-high-school-prom/
LOCATION:ID
END:VEVENT
BEGIN:VEVENT
DTSTART;TZID=UTC:20250429T190000
DTEND;TZID=UTC:20250429T200000
DTSTAMP:20260424T163026
CREATED:20250331T170035Z
LAST-MODIFIED:20250331T170035Z
UID:9274-1745953200-1745956800@www.tvcacademy.org
SUMMARY:Upper School Rising 7th Grader Info Night
DESCRIPTION:Tuesday\, April 29th: Upper School Rising 7th Grader Info Night\, 7:00 pm
URL:https://www.tvcacademy.org/event/upper-school-rising-7th-grader-info-night/
LOCATION:ID
END:VEVENT
BEGIN:VEVENT
DTSTART;TZID=UTC:20250503T073000
DTEND;TZID=UTC:20250503T203000
DTSTAMP:20260424T163026
CREATED:20250423T160406Z
LAST-MODIFIED:20250423T160442Z
UID:9300-1746257400-1746304200@www.tvcacademy.org
SUMMARY:Upper School Theater Performance: A Night on Broadway!
DESCRIPTION:Treasure Valley Classical Academy Presents: A Night on Broadway – A Musical Extravaganza!\n\nJoin us for an unforgettable evening of music\, movement\, and theatrical magic as TVCA’s Timberwolf Troupe takes the stage for A Night on Broadway: A Musical Extravaganza!\n\nThis one-night-only performance will be held on Saturday\, May 3rd at 7:30 PM in the TVCA  Auditorium in Fruitland. Featuring beloved selections from Broadway shows and musical films\, our talented high school performers will guide you through the evolution of musical theater in a vibrant\, high-energy showcase.\n\nAdmission is by donation and families\, friends\, and community members are warmly invited to attend. Come support our students and celebrate the arts at TVCA!
URL:https://www.tvcacademy.org/event/upper-school-theater-performance-a-night-on-broadway/
LOCATION:ID
END:VEVENT
BEGIN:VEVENT
DTSTART;TZID=UTC:20250513T190000
DTEND;TZID=UTC:20250513T200000
DTSTAMP:20260424T163026
CREATED:20250423T161014Z
LAST-MODIFIED:20250423T161041Z
UID:9303-1747162800-1747166400@www.tvcacademy.org
SUMMARY:Upper School Fine Arts Night
DESCRIPTION:Upper School Fine Arts Night\nTuesday\, May 13⋅7:00 – 8:00pm
URL:https://www.tvcacademy.org/event/upper-school-fine-arts-night/
LOCATION:ID
END:VEVENT
BEGIN:VEVENT
DTSTART;VALUE=DATE:20250522
DTEND;VALUE=DATE:20250523
DTSTAMP:20260424T163026
CREATED:20250423T161313Z
LAST-MODIFIED:20250423T161313Z
UID:9305-1747872000-1747958399@www.tvcacademy.org
SUMMARY:All School Field Day
DESCRIPTION:All School Field Day (PTCA)\nThursday\, May 22
URL:https://www.tvcacademy.org/event/all-school-field-day-2/
LOCATION:ID
END:VEVENT
END:VCALENDAR