BEGIN:VCALENDAR
VERSION:2.0
PRODID:-//Treasure Valley Classical Academy - ECPv6.15.18//NONSGML v1.0//EN
CALSCALE:GREGORIAN
METHOD:PUBLISH
X-WR-CALNAME:Treasure Valley Classical Academy
X-ORIGINAL-URL:https://www.tvcacademy.org
X-WR-CALDESC:Events for Treasure Valley Classical Academy
REFRESH-INTERVAL;VALUE=DURATION:PT1H
X-Robots-Tag:noindex
X-PUBLISHED-TTL:PT1H
BEGIN:VTIMEZONE
TZID:UTC
BEGIN:STANDARD
TZOFFSETFROM:+0000
TZOFFSETTO:+0000
TZNAME:UTC
DTSTART:20230101T000000
END:STANDARD
END:VTIMEZONE
BEGIN:VEVENT
DTSTART;TZID=UTC:20250210T063000
DTEND;TZID=UTC:20250210T200000
DTSTAMP:20260419T184623
CREATED:20250116T174321Z
LAST-MODIFIED:20250116T174402Z
UID:9163-1739169000-1739217600@www.tvcacademy.org
SUMMARY:Enrollment Public Information Session
DESCRIPTION:Public Information Sessions\n\n\n\n\nJanuary 23rd | 6:30 – 8:00pm | TVCA Auditorium \n\n\nFebruary 10th | 6:30 – 8:00pm | TVCA Auditorium \n\n\nMarch 4th | 6:30 – 8:00pm | TVCA Auditorium
URL:https://www.tvcacademy.org/event/public-information-sessions/
END:VEVENT
BEGIN:VEVENT
DTSTART;TZID=UTC:20250207T180000
DTEND;TZID=UTC:20250207T200000
DTSTAMP:20260419T184623
CREATED:20250116T171901Z
LAST-MODIFIED:20250116T171901Z
UID:9146-1738951200-1738958400@www.tvcacademy.org
SUMMARY:TVCA Bingo Night!
DESCRIPTION:The PTCA Bingo Night is coming up on Friday\, Feb. 7th. This is an event for ALL TVCA students and their families.
URL:https://www.tvcacademy.org/event/tvca-bingo-night/
END:VEVENT
BEGIN:VEVENT
DTSTART;VALUE=DATE:20250207
DTEND;VALUE=DATE:20250208
DTSTAMP:20260419T184623
CREATED:20250116T172531Z
LAST-MODIFIED:20250116T172531Z
UID:9152-1738886400-1738972799@www.tvcacademy.org
SUMMARY:Spirit Day!
DESCRIPTION:
URL:https://www.tvcacademy.org/event/spirit-day-9/
END:VEVENT
BEGIN:VEVENT
DTSTART;TZID=UTC:20250131T190000
DTEND;TZID=UTC:20250131T200000
DTSTAMP:20260419T184623
CREATED:20250106T190801Z
LAST-MODIFIED:20250116T173049Z
UID:9054-1738350000-1738353600@www.tvcacademy.org
SUMMARY:6th Grade Fine Arts Concert
DESCRIPTION:6th Grade Fine Arts Concert\nFriday\, January 31⋅7:00 – 8:00pm
URL:https://www.tvcacademy.org/event/6th-grade-fine-arts-concert/
END:VEVENT
BEGIN:VEVENT
DTSTART;TZID=UTC:20250123T183000
DTEND;TZID=UTC:20250123T200000
DTSTAMP:20260419T184623
CREATED:20250106T190606Z
LAST-MODIFIED:20250106T190606Z
UID:9052-1737657000-1737662400@www.tvcacademy.org
SUMMARY:School Enrollment Lottery Informational Meeting
DESCRIPTION:January 23rd | 6:30 – 8:00pm | TVCA Auditorium
URL:https://www.tvcacademy.org/event/school-enrollment-lottery-informational-meeting/
END:VEVENT
BEGIN:VEVENT
DTSTART;VALUE=DATE:20250120
DTEND;VALUE=DATE:20250121
DTSTAMP:20260419T184623
CREATED:20250117T224059Z
LAST-MODIFIED:20250117T224059Z
UID:9169-1737331200-1737417599@www.tvcacademy.org
SUMMARY:Martin Luther King Jr. Day -- No School today!
DESCRIPTION:Martin Luther King Jr. Day\nMonday\, January 20
URL:https://www.tvcacademy.org/event/martin-luther-king-jr-day-no-school-today/
END:VEVENT
BEGIN:VEVENT
DTSTART;VALUE=DATE:20250120
DTEND;VALUE=DATE:20250121
DTSTAMP:20260419T184623
CREATED:20250106T190112Z
LAST-MODIFIED:20250106T190112Z
UID:9048-1737331200-1737417599@www.tvcacademy.org
SUMMARY:MLK Holiday (no school)
DESCRIPTION:
URL:https://www.tvcacademy.org/event/mlk-holiday-no-school/
END:VEVENT
BEGIN:VEVENT
DTSTART;VALUE=DATE:20250113
DTEND;VALUE=DATE:20250114
DTSTAMP:20260419T184623
CREATED:20250106T190435Z
LAST-MODIFIED:20250106T190435Z
UID:9050-1736726400-1736812799@www.tvcacademy.org
SUMMARY:Lottery Applications Open for New Students
DESCRIPTION:January 13: Lottery Applications Open for new students for the 2025-2026 school year!
URL:https://www.tvcacademy.org/event/lottery-applications-open-for-new-students/
END:VEVENT
BEGIN:VEVENT
DTSTART;VALUE=DATE:20250110
DTEND;VALUE=DATE:20250111
DTSTAMP:20260419T184623
CREATED:20250106T185905Z
LAST-MODIFIED:20250106T190036Z
UID:9045-1736467200-1736553599@www.tvcacademy.org
SUMMARY:Spirit Day
DESCRIPTION:
URL:https://www.tvcacademy.org/event/spirit-day-8/
END:VEVENT
BEGIN:VEVENT
DTSTART;VALUE=DATE:20250106
DTEND;VALUE=DATE:20250107
DTSTAMP:20260419T184623
CREATED:20241203T173008Z
LAST-MODIFIED:20241203T175728Z
UID:9010-1736121600-1736207999@www.tvcacademy.org
SUMMARY:No School (Faculty/Staff Work Day)
DESCRIPTION:
URL:https://www.tvcacademy.org/event/no-school-faculty-staff-work-day/
END:VEVENT
BEGIN:VEVENT
DTSTART;TZID=UTC:20241220T080000
DTEND;TZID=UTC:20250105T170000
DTSTAMP:20260419T184623
CREATED:20241203T172732Z
LAST-MODIFIED:20241203T172732Z
UID:9007-1734681600-1736096400@www.tvcacademy.org
SUMMARY:Winter Break
DESCRIPTION:
URL:https://www.tvcacademy.org/event/winter-break-2/
END:VEVENT
BEGIN:VEVENT
DTSTART;VALUE=DATE:20241219
DTEND;VALUE=DATE:20241220
DTSTAMP:20260419T184623
CREATED:20241021T150809Z
LAST-MODIFIED:20241021T150809Z
UID:8928-1734566400-1734652799@www.tvcacademy.org
SUMMARY:Rubato Orchestra at Elementary (Lunch time)
DESCRIPTION:December 19\, Thursday\, lunchtime at the elementary\n~Rubato Orchestra will perform Christmas songs for the elementary students during lunch. Pizza will be provided for orchestra students.
URL:https://www.tvcacademy.org/event/rubato-orchestra-at-elementary-lunch-time/
END:VEVENT
BEGIN:VEVENT
DTSTART;TZID=UTC:20241213T190000
DTEND;TZID=UTC:20241213T203000
DTSTAMP:20260419T184623
CREATED:20241021T150506Z
LAST-MODIFIED:20241021T150506Z
UID:8925-1734116400-1734121800@www.tvcacademy.org
SUMMARY:~Upper School Fine Arts~
DESCRIPTION:December 13\, Friday\, 7pm\, location TBD\n~Upper School Fine Arts~\nRubato and High School Orchestra will perform
URL:https://www.tvcacademy.org/event/upper-school-fine-arts/
END:VEVENT
BEGIN:VEVENT
DTSTART;TZID=UTC:20241210T180000
DTEND;TZID=UTC:20241210T193000
DTSTAMP:20260419T184623
CREATED:20241021T150337Z
LAST-MODIFIED:20241021T150337Z
UID:8923-1733853600-1733859000@www.tvcacademy.org
SUMMARY:Orchestra Christmas Play-Along and Potluck
DESCRIPTION:December 10\, Tuesday\, Christmas Play-Along and Potluck\, 6pm\, location TBD\n~High School Orchestra will get together in a casual setting for a potluck and to play Christmas music
URL:https://www.tvcacademy.org/event/orchestra-christmas-play-along-and-potluck/
END:VEVENT
BEGIN:VEVENT
DTSTART;VALUE=DATE:20241206
DTEND;VALUE=DATE:20241207
DTSTAMP:20260419T184623
CREATED:20241203T154036Z
LAST-MODIFIED:20241203T154036Z
UID:9005-1733443200-1733529599@www.tvcacademy.org
SUMMARY:School Spirit Day!
DESCRIPTION:
URL:https://www.tvcacademy.org/event/school-spirit-day/
END:VEVENT
BEGIN:VEVENT
DTSTART;TZID=UTC:20241119T103000
DTEND;TZID=UTC:20241119T113000
DTSTAMP:20260419T184623
CREATED:20241021T150121Z
LAST-MODIFIED:20241021T150121Z
UID:8921-1732012200-1732015800@www.tvcacademy.org
SUMMARY:~High School District 3 Orchestra Festival~ (Centennial High School)
DESCRIPTION:November 19\, Tuesday\, 10:30am Centennial High School\n~High School District 3 Orchestra Festival~\nParents are welcome to sit in on this. The three pieces we will be performing are also the ones you will hear on 11/5.
URL:https://www.tvcacademy.org/event/high-school-district-3-orchestra-festival-centennial-high-school/
END:VEVENT
BEGIN:VEVENT
DTSTART;TZID=UTC:20241111T100000
DTEND;TZID=UTC:20241111T110000
DTSTAMP:20260419T184623
CREATED:20241021T145738Z
LAST-MODIFIED:20241021T145738Z
UID:8919-1731319200-1731322800@www.tvcacademy.org
SUMMARY:Veteran's Day Program
DESCRIPTION:Veteran’s Day Program\nMonday\, November 11⋅10:00 – 11:00am
URL:https://www.tvcacademy.org/event/veterans-day-program/
END:VEVENT
BEGIN:VEVENT
DTSTART;TZID=UTC:20241105T170000
DTEND;TZID=UTC:20241105T180000
DTSTAMP:20260419T184623
CREATED:20241021T151737Z
LAST-MODIFIED:20241021T151737Z
UID:8931-1730826000-1730829600@www.tvcacademy.org
SUMMARY:~Upper School Choir and Orchestras combined concert~
DESCRIPTION:November 5\, Tuesday\, at 5:00 in Fruitland \n~Upper School Choir and Orchestras combined concert~\nStudents will meet at the elementary school at 3:45 for a dress rehearsal. We will open doors for audience at 4:45.
URL:https://www.tvcacademy.org/event/upper-school-choir-and-orchestras-combined-concert/
END:VEVENT
BEGIN:VEVENT
DTSTART;TZID=UTC:20241102T074500
DTEND;TZID=UTC:20241102T220000
DTSTAMP:20260419T184623
CREATED:20241003T185815Z
LAST-MODIFIED:20241003T185815Z
UID:8901-1730533500-1730584800@www.tvcacademy.org
SUMMARY:TVCA HS Dance
DESCRIPTION:TVCA will be holding its first high school dance of the year on the evening of Friday\, November 2nd. The dance is semi-formal and will be held at the TVCA Fruitland campus. It will be from 7:45pm-10pm.  For specific information regarding dress guidelines\, please see the current Dance Guidelines.  We welcome parent chaperones. Please email Mr. Earle with any questions you may have–bearle@tvcacademy.org.
URL:https://www.tvcacademy.org/event/tvca-hs-dance/
END:VEVENT
BEGIN:VEVENT
DTSTART;VALUE=DATE:20241101
DTEND;VALUE=DATE:20241102
DTSTAMP:20260419T184623
CREATED:20241021T160415Z
LAST-MODIFIED:20241021T160442Z
UID:8934-1730419200-1730505599@www.tvcacademy.org
SUMMARY:Timberwolves Spirit Day!
DESCRIPTION:Timberwolves Spirit Day!
URL:https://www.tvcacademy.org/event/timberwolves-spirit-day/
END:VEVENT
BEGIN:VEVENT
DTSTART;VALUE=DATE:20241031
DTEND;VALUE=DATE:20241101
DTSTAMP:20260419T184623
CREATED:20241003T184406Z
LAST-MODIFIED:20241003T184406Z
UID:8899-1730332800-1730419199@www.tvcacademy.org
SUMMARY:Curriculum Day
DESCRIPTION:October 31st: Curriculum Day \nMore Details to come!
URL:https://www.tvcacademy.org/event/curriculum-day-2/
END:VEVENT
BEGIN:VEVENT
DTSTART;VALUE=DATE:20241028
DTEND;VALUE=DATE:20241029
DTSTAMP:20260419T184623
CREATED:20241003T184137Z
LAST-MODIFIED:20241003T184137Z
UID:8896-1730073600-1730159999@www.tvcacademy.org
SUMMARY:NO SCHOOL Parent teacher conferences (Upper)/ Teacher workday (Elementary)
DESCRIPTION:NO SCHOOL Parent teacher conferences (Upper)/ Teacher workday (Elementary)
URL:https://www.tvcacademy.org/event/no-school-parent-teacher-conferences-upper-teacher-workday-elementary/
END:VEVENT
BEGIN:VEVENT
DTSTART;VALUE=DATE:20241025
DTEND;VALUE=DATE:20241026
DTSTAMP:20260419T184623
CREATED:20241003T183921Z
LAST-MODIFIED:20241003T183921Z
UID:8893-1729814400-1729900799@www.tvcacademy.org
SUMMARY:NO SCHOOL Parent teacher conferences (Elementary)/Teacher workday (Upper)
DESCRIPTION:NO SCHOOL Parent teacher conferences (Elementary)/Teacher workday (Upper)
URL:https://www.tvcacademy.org/event/no-school-parent-teacher-conferences-elementary-teacher-workday-upper/
END:VEVENT
BEGIN:VEVENT
DTSTART;VALUE=DATE:20241023
DTEND;VALUE=DATE:20241024
DTSTAMP:20260419T184623
CREATED:20240812T173428Z
LAST-MODIFIED:20240925T164131Z
UID:8641-1729641600-1729727999@www.tvcacademy.org
SUMMARY:Upper School School Photos
DESCRIPTION:Upper School School Photos – Individual \nWednesday\, October 23
URL:https://www.tvcacademy.org/event/upper-school-school-photos/
END:VEVENT
BEGIN:VEVENT
DTSTART;VALUE=DATE:20241018
DTEND;VALUE=DATE:20241019
DTSTAMP:20260419T184623
CREATED:20241002T210636Z
LAST-MODIFIED:20241003T184210Z
UID:8891-1729209600-1729295999@www.tvcacademy.org
SUMMARY:Annual Evening Fall Bonfires (Upper School)
DESCRIPTION:Annual Fall Bonfire (Upper School)\nFriday\, October 18\nMore details coming soon!
URL:https://www.tvcacademy.org/event/annual-evening-fall-bonfire-upper-school/
END:VEVENT
BEGIN:VEVENT
DTSTART;VALUE=DATE:20241011
DTEND;VALUE=DATE:20241012
DTSTAMP:20260419T184623
CREATED:20241002T210013Z
LAST-MODIFIED:20241002T210013Z
UID:8886-1728604800-1728691199@www.tvcacademy.org
SUMMARY:Fall Break -- No School today
DESCRIPTION:Fall Break\nFriday\, October 11
URL:https://www.tvcacademy.org/event/fall-break-no-school-today/
END:VEVENT
BEGIN:VEVENT
DTSTART;TZID=UTC:20241005T180000
DTEND;TZID=UTC:20241005T210000
DTSTAMP:20260419T184623
CREATED:20240819T193941Z
LAST-MODIFIED:20240819T194200Z
UID:8771-1728151200-1728162000@www.tvcacademy.org
SUMMARY:Guns and Roses Auction
DESCRIPTION:For more details see: https://www.tvcacademy.org/https-tvcacademy-ejoinme-org-gunsandroses2024/ \n 
URL:https://www.tvcacademy.org/event/guns-and-roses-auction/
END:VEVENT
BEGIN:VEVENT
DTSTART;VALUE=DATE:20241004
DTEND;VALUE=DATE:20241005
DTSTAMP:20260419T184623
CREATED:20240819T192458Z
LAST-MODIFIED:20240819T192458Z
UID:8769-1728000000-1728086399@www.tvcacademy.org
SUMMARY:All School Spirit Day
DESCRIPTION:
URL:https://www.tvcacademy.org/event/all-school-spirit-day/
END:VEVENT
BEGIN:VEVENT
DTSTART;VALUE=DATE:20240921
DTEND;VALUE=DATE:20240922
DTSTAMP:20260419T184623
CREATED:20240812T174006Z
LAST-MODIFIED:20240812T174006Z
UID:8645-1726876800-1726963199@www.tvcacademy.org
SUMMARY:7th Grade Hike Saturday\, September 21
DESCRIPTION:7th Grade Hike\nSaturday\, September 21
URL:https://www.tvcacademy.org/event/7th-grade-hike-saturday-september-21/
END:VEVENT
BEGIN:VEVENT
DTSTART;TZID=UTC:20240920T080000
DTEND;TZID=UTC:20240925T170000
DTSTAMP:20260419T184623
CREATED:20240819T191755Z
LAST-MODIFIED:20240819T194424Z
UID:8766-1726819200-1727283600@www.tvcacademy.org
SUMMARY:Guns and Roses Online Auction (ongoing)
DESCRIPTION:
URL:https://www.tvcacademy.org/event/guns-and-roses-online-auction-ongoing/
END:VEVENT
END:VCALENDAR