BEGIN:VCALENDAR
VERSION:2.0
PRODID:-//Treasure Valley Classical Academy - ECPv6.15.20//NONSGML v1.0//EN
CALSCALE:GREGORIAN
METHOD:PUBLISH
X-ORIGINAL-URL:https://www.tvcacademy.org
X-WR-CALDESC:Events for Treasure Valley Classical Academy
REFRESH-INTERVAL;VALUE=DURATION:PT1H
X-Robots-Tag:noindex
X-PUBLISHED-TTL:PT1H
BEGIN:VTIMEZONE
TZID:UTC
BEGIN:STANDARD
TZOFFSETFROM:+0000
TZOFFSETTO:+0000
TZNAME:UTC
DTSTART:20230101T000000
END:STANDARD
END:VTIMEZONE
BEGIN:VEVENT
DTSTART;TZID=UTC:20240202T190000
DTEND;TZID=UTC:20240202T203000
DTSTAMP:20260423T085447
CREATED:20240112T150916Z
LAST-MODIFIED:20240112T150916Z
UID:8086-1706900400-1706905800@www.tvcacademy.org
SUMMARY:Bingo Night
DESCRIPTION:
URL:https://www.tvcacademy.org/event/bingo-night/
LOCATION:ID
END:VEVENT
BEGIN:VEVENT
DTSTART;TZID=UTC:20240205T190000
DTEND;TZID=UTC:20240205T203000
DTSTAMP:20260423T085447
CREATED:20240112T151357Z
LAST-MODIFIED:20240112T151357Z
UID:8091-1707159600-1707165000@www.tvcacademy.org
SUMMARY:Public Information Session #2
DESCRIPTION:Public Information Session #2
URL:https://www.tvcacademy.org/event/public-information-session-2-2/
LOCATION:ID
END:VEVENT
BEGIN:VEVENT
DTSTART;TZID=UTC:20240206T190000
DTEND;TZID=UTC:20240206T200000
DTSTAMP:20260423T085447
CREATED:20240126T201048Z
LAST-MODIFIED:20240126T201143Z
UID:8155-1707246000-1707249600@www.tvcacademy.org
SUMMARY:Town Hall Meeting
DESCRIPTION:We would like to invite you to an Upper Campus Town Hall.  This event will take place on Tuesday\, February 6\, at 7:00pm in the auditorium. Mr. Lasnick and Mr. Lambert will both be there to present an update on where we are at and to answer questions.
URL:https://www.tvcacademy.org/event/town-hall-meeting-2/
LOCATION:ID
END:VEVENT
BEGIN:VEVENT
DTSTART;TZID=UTC:20240207T160000
DTEND;TZID=UTC:20240207T193000
DTSTAMP:20260423T085447
CREATED:20240112T151641Z
LAST-MODIFIED:20240112T151641Z
UID:8093-1707321600-1707334200@www.tvcacademy.org
SUMMARY:MS Boys Basketball Away @ Falcon Ridge
DESCRIPTION:MS Boys Basketball Away @ Falcon Ridge\nWednesday\, February 7⋅4:00 – 7:30pm\n\n\n\n\nLocation: \n\n278 S Ten Mile Rd\n278 S Ten Mile Rd\, Kuna\, ID 83634\, USA\n\n\n\n\n\nDescription: Dismissal – 2:15pm\nDeparture – 2:30pm\nArrival – 3:30pm\nC game – 4:00pm\nB game – 4:15pm\nA game – 5:15pm
URL:https://www.tvcacademy.org/event/ms-boys-basketball-away-falcon-ridge/
LOCATION:ID
END:VEVENT
BEGIN:VEVENT
DTSTART;TZID=UTC:20240208T161500
DTEND;TZID=UTC:20240208T191500
DTSTAMP:20260423T085447
CREATED:20240112T151847Z
LAST-MODIFIED:20240112T151847Z
UID:8095-1707408900-1707419700@www.tvcacademy.org
SUMMARY:MS Boys Basketball Away @ Vision Charter
DESCRIPTION:MS Boys Basketball Away @ Vision Charter\nThursday\, February 8⋅4:15 – 7:15pm\n\n\n\n\nLocation: \n\n19291 Ward Rd\, Caldwell\, ID 83605\n\n\n\n\n\nDescription:  Dismissal – 2:45pm   Departure – 3:00pm   Arrival – 3:45pm\nA game – 4:15pm     B game – 5:15pm
URL:https://www.tvcacademy.org/event/ms-boys-basketball-away-vision-charter/
LOCATION:ID
END:VEVENT
BEGIN:VEVENT
DTSTART;TZID=UTC:20240208T190000
DTEND;TZID=UTC:20240208T203000
DTSTAMP:20260423T085447
CREATED:20240112T145923Z
LAST-MODIFIED:20240112T150817Z
UID:8076-1707418800-1707424200@www.tvcacademy.org
SUMMARY:The Tempest performance by Upper School Theater
DESCRIPTION:
URL:https://www.tvcacademy.org/event/the-tempest-performance/
LOCATION:ID
END:VEVENT
BEGIN:VEVENT
DTSTART;TZID=UTC:20240209T190000
DTEND;TZID=UTC:20240209T203000
DTSTAMP:20260423T085447
CREATED:20240112T150045Z
LAST-MODIFIED:20240112T150746Z
UID:8080-1707505200-1707510600@www.tvcacademy.org
SUMMARY:The Tempest performance by Upper School Theater
DESCRIPTION:
URL:https://www.tvcacademy.org/event/the-tempest-performance-by-upper-school-theater/
LOCATION:ID
END:VEVENT
BEGIN:VEVENT
DTSTART;VALUE=DATE:20240210
DTEND;VALUE=DATE:20240211
DTSTAMP:20260423T085447
CREATED:20240112T150311Z
LAST-MODIFIED:20240112T150311Z
UID:8082-1707523200-1707609599@www.tvcacademy.org
SUMMARY:Annual Ski Trip
DESCRIPTION:More details coming soon!
URL:https://www.tvcacademy.org/event/annual-ski-trip/
LOCATION:ID
END:VEVENT
BEGIN:VEVENT
DTSTART;TZID=UTC:20240212T190000
DTEND;TZID=UTC:20240212T210000
DTSTAMP:20260423T085447
CREATED:20240112T152203Z
LAST-MODIFIED:20240112T165640Z
UID:8097-1707764400-1707771600@www.tvcacademy.org
SUMMARY:Choir Master Class Rehearsal
DESCRIPTION:Choir Master Class- Mr. Wheeler\nMonday\, February 12⋅7:00 – 9:00pm
URL:https://www.tvcacademy.org/event/choir-master-class-performance/
LOCATION:ID
END:VEVENT
BEGIN:VEVENT
DTSTART;TZID=UTC:20240213T161500
DTEND;TZID=UTC:20240213T194500
DTSTAMP:20260423T085447
CREATED:20240112T152355Z
LAST-MODIFIED:20240112T152355Z
UID:8099-1707840900-1707853500@www.tvcacademy.org
SUMMARY:MS Boys Basketball Away @ Marsing
DESCRIPTION:MS Boys Basketball Away @ Marsing\nTuesday\, February 13⋅4:15 – 7:45pm\n\n\n\n\nLocation: \n\n205 8th Ave W\, Marsing\, ID 83639\n\n\n\n\n\nDescription: Dismissal – 2:35pm\nDeparture – 2:50pm\nArrival – 3:45pm\nA game – 4:15pm    B game – 5:15pm
URL:https://www.tvcacademy.org/event/ms-boys-basketball-away-marsing/
LOCATION:ID
END:VEVENT
BEGIN:VEVENT
DTSTART;TZID=UTC:20240215T153000
DTEND;TZID=UTC:20240215T163000
DTSTAMP:20260423T085447
CREATED:20240129T195413Z
LAST-MODIFIED:20240129T195413Z
UID:8159-1708011000-1708014600@www.tvcacademy.org
SUMMARY:MS Boys Basketball Away @ Wilder
DESCRIPTION:MS Boys Basketball Away @ Wilder\nThursday\, February 15⋅3:30 – 6:00pm\n\n\n\n\n\nLocation: \n\n419 Huff Rd\n419 Huff Rd\, Wilder\, ID 83676\, USA\n\n\n\n\n\nnotes\n\nDescription: Dismissal – 2:15pm Departure – 2:30pm Arrival – 2:00pm B game – 3:30pm A game – 4:30pm
URL:https://www.tvcacademy.org/event/ms-boys-basketball-away-wilder-2/
LOCATION:ID
END:VEVENT
BEGIN:VEVENT
DTSTART;TZID=UTC:20240216T100000
DTEND;TZID=UTC:20240216T123000
DTSTAMP:20260423T085447
CREATED:20240212T150333Z
LAST-MODIFIED:20240212T150333Z
UID:8187-1708077600-1708086600@www.tvcacademy.org
SUMMARY:Shakespeare Festival (elementary)
DESCRIPTION:We have a wonderful opportunity to host the Idaho Shakespeare Festival at TVCA! They will be performing The Legend of Finn McCoy on Friday\, February 16 at 10am for 4th-6th grades and 11:25am for K-3rd.  These performances will last less than an hour.
URL:https://www.tvcacademy.org/event/shakespeare-festival-elementary/
LOCATION:ID
END:VEVENT
BEGIN:VEVENT
DTSTART;VALUE=DATE:20240219
DTEND;VALUE=DATE:20240220
DTSTAMP:20260423T085447
CREATED:20240212T153545Z
LAST-MODIFIED:20240212T153545Z
UID:8192-1708300800-1708387199@www.tvcacademy.org
SUMMARY:President's Day -- No School
DESCRIPTION:
URL:https://www.tvcacademy.org/event/presidents-day-no-school/
LOCATION:ID
END:VEVENT
BEGIN:VEVENT
DTSTART;TZID=UTC:20240221T070000
DTEND;TZID=UTC:20240224T210000
DTSTAMP:20260423T085447
CREATED:20240123T150640Z
LAST-MODIFIED:20240123T150640Z
UID:8136-1708498800-1708808400@www.tvcacademy.org
SUMMARY:Tip-Off Week
DESCRIPTION:More details coming soon!
URL:https://www.tvcacademy.org/event/tip-off-week/
LOCATION:ID
END:VEVENT
BEGIN:VEVENT
DTSTART;TZID=UTC:20240222T190000
DTEND;TZID=UTC:20240222T203000
DTSTAMP:20260423T085447
CREATED:20240123T150859Z
LAST-MODIFIED:20240222T223953Z
UID:8138-1708628400-1708633800@www.tvcacademy.org
SUMMARY:Core Lecture Series #2 (canceled)
DESCRIPTION:Core Lecture Series#2 -Condra\n\nTVCA Parents: \nDr. Condra’s discussion of the challenges George Washington faced as President\, which was scheduled for this evening\, is postponed and will be rescheduled to a date to be determined. We recognize that many families are committed to the children’s Finding Nemo performance tonight that our K-3 students were delighted to watch this afternoon. We also hope that in conjunction with our PTCA partners we can encourage parents to attend our Core Curriculum Lecture Series by providing a child care option on lecture nights. A rescheduled date for Dr. Condra’s talk will be announced soon!
URL:https://www.tvcacademy.org/event/core-lecture-series-2/
LOCATION:ID
END:VEVENT
BEGIN:VEVENT
DTSTART;TZID=UTC:20240224T190000
DTEND;TZID=UTC:20240224T210000
DTSTAMP:20260423T085447
CREATED:20240112T152526Z
LAST-MODIFIED:20240129T194107Z
UID:8101-1708801200-1708808400@www.tvcacademy.org
SUMMARY:9th and 10th Grade Dance
DESCRIPTION:9th and 10th Grade Dance\nSaturday\, February 24⋅7:00 – 9:00pm\n\n9th and 10th Grade Dance — There will be a casual “Sadie Hawkins” Dance (girl asks boy\, casual dress\, matching shirts) for Freshmen and Sophomores on Saturday\, February 24\, from 7pm-9pm. This is not a date-only dance and any Freshman or Sophomore can come with or without a date. As a fun option\, groups of friends may want to come together dressed the same. For questions\, please contact Mr. Hymas at jhymas@tvcacademy.org.
URL:https://www.tvcacademy.org/event/annual-winter-dance/
LOCATION:ID
END:VEVENT
BEGIN:VEVENT
DTSTART;TZID=UTC:20240226T190000
DTEND;TZID=UTC:20240226T203000
DTSTAMP:20260423T085447
CREATED:20240112T152916Z
LAST-MODIFIED:20240125T222141Z
UID:8103-1708974000-1708979400@www.tvcacademy.org
SUMMARY:Public Information Session #3
DESCRIPTION:Public Information Session #3\nMonday\, February 26⋅7:00pm – 8:30pm
URL:https://www.tvcacademy.org/event/public-information-session-3-2/
LOCATION:ID
END:VEVENT
BEGIN:VEVENT
DTSTART;TZID=UTC:20240227T133000
DTEND;TZID=UTC:20240227T150000
DTSTAMP:20260423T085447
CREATED:20240212T150540Z
LAST-MODIFIED:20240212T150540Z
UID:8190-1709040600-1709046000@www.tvcacademy.org
SUMMARY:Shakespeare Festival (Upper School)
DESCRIPTION:We have a wonderful opportunity to host the Idaho Shakespeare Festival at TVCA! They will be performing A Midsummer Night’s Dream on Tuesday\, Feb. 27 at 1:30pm for the enjoyment of our upper school students.
URL:https://www.tvcacademy.org/event/shakespeare-festival-upper-school/
LOCATION:ID
END:VEVENT
BEGIN:VEVENT
DTSTART;TZID=UTC:20240227T190000
DTEND;TZID=UTC:20240227T203000
DTSTAMP:20260423T085447
CREATED:20240112T150624Z
LAST-MODIFIED:20240208T152926Z
UID:8084-1709060400-1709065800@www.tvcacademy.org
SUMMARY:College Night
DESCRIPTION:TVCA “College Night” — this is scheduled for February 27 at 7pm. All upper school families are especially encouraged to come hear from a panel of college representatives from three colleges (TVCC\, Boise State\, and Hillsdale College) who will be present to inspire and answer questions about attending college and planning for your future.
URL:https://www.tvcacademy.org/event/college-night/
LOCATION:ID
END:VEVENT
BEGIN:VEVENT
DTSTART;VALUE=DATE:20240301
DTEND;VALUE=DATE:20240302
DTSTAMP:20260423T085447
CREATED:20240124T174933Z
LAST-MODIFIED:20240124T174933Z
UID:8141-1709251200-1709337599@www.tvcacademy.org
SUMMARY:Spirit Day!
DESCRIPTION:
URL:https://www.tvcacademy.org/event/spirit-day-5/
LOCATION:ID
END:VEVENT
BEGIN:VEVENT
DTSTART;VALUE=DATE:20240301
DTEND;VALUE=DATE:20240302
DTSTAMP:20260423T085447
CREATED:20240207T165016Z
LAST-MODIFIED:20240207T165016Z
UID:8174-1709251200-1709337599@www.tvcacademy.org
SUMMARY:Lottery Application Period Closes
DESCRIPTION:
URL:https://www.tvcacademy.org/event/lottery-application-period-closes/
LOCATION:ID
END:VEVENT
BEGIN:VEVENT
DTSTART;TZID=UTC:20240311T190000
DTEND;TZID=UTC:20240311T200000
DTSTAMP:20260423T085447
CREATED:20240222T150809Z
LAST-MODIFIED:20240222T150809Z
UID:8216-1710183600-1710187200@www.tvcacademy.org
SUMMARY:Town Hall Meeting
DESCRIPTION:Topics of discussion will be Mid-year Survey Results and Upper School Expansion Update.
URL:https://www.tvcacademy.org/event/town-hall-meeting-3/
LOCATION:ID
END:VEVENT
BEGIN:VEVENT
DTSTART;VALUE=DATE:20240312
DTEND;VALUE=DATE:20240313
DTSTAMP:20260423T085447
CREATED:20240208T181754Z
LAST-MODIFIED:20240208T181754Z
UID:8180-1710201600-1710287999@www.tvcacademy.org
SUMMARY:Enrollment Lottery
DESCRIPTION:More details coming soon.
URL:https://www.tvcacademy.org/event/enrollment-lottery/
LOCATION:ID
END:VEVENT
BEGIN:VEVENT
DTSTART;VALUE=DATE:20240315
DTEND;VALUE=DATE:20240316
DTSTAMP:20260423T085447
CREATED:20231101T171413Z
LAST-MODIFIED:20231101T171413Z
UID:7947-1710460800-1710547199@www.tvcacademy.org
SUMMARY:Grandparents Day (save the date--more details to come!)
DESCRIPTION:
URL:https://www.tvcacademy.org/event/grandparents-day-save-the-date-more-details-to-come/
LOCATION:ID
END:VEVENT
BEGIN:VEVENT
DTSTART;TZID=UTC:20240318T170000
DTEND;TZID=UTC:20240318T180000
DTSTAMP:20260423T085447
CREATED:20240124T175327Z
LAST-MODIFIED:20240124T175512Z
UID:8144-1710781200-1710784800@www.tvcacademy.org
SUMMARY:Orchestra Concert
DESCRIPTION:Orchestra Concert\nMonday\, March 18⋅5:00 – 6:00pm
URL:https://www.tvcacademy.org/event/orchestra-concert/
LOCATION:ID
END:VEVENT
BEGIN:VEVENT
DTSTART;TZID=UTC:20240319T050000
DTEND;TZID=UTC:20240319T180000
DTSTAMP:20260423T085447
CREATED:20240124T175457Z
LAST-MODIFIED:20240124T175457Z
UID:8146-1710824400-1710871200@www.tvcacademy.org
SUMMARY:Choir Concert
DESCRIPTION:Choir Concert\nTuesday\, March 19⋅5:00 – 6:00pm
URL:https://www.tvcacademy.org/event/choir-concert/
LOCATION:ID
END:VEVENT
BEGIN:VEVENT
DTSTART;VALUE=DATE:20240322
DTEND;VALUE=DATE:20240323
DTSTAMP:20260423T085447
CREATED:20240124T175654Z
LAST-MODIFIED:20240124T175654Z
UID:8148-1711065600-1711151999@www.tvcacademy.org
SUMMARY:Faculty Workday- No School
DESCRIPTION:Faculty Workday- No School\nFriday\, March 22
URL:https://www.tvcacademy.org/event/faculty-workday-no-school/
LOCATION:ID
END:VEVENT
BEGIN:VEVENT
DTSTART;TZID=UTC:20240325T080000
DTEND;TZID=UTC:20240329T170000
DTSTAMP:20260423T085447
CREATED:20240124T175821Z
LAST-MODIFIED:20240124T175821Z
UID:8150-1711353600-1711731600@www.tvcacademy.org
SUMMARY:Spring Break
DESCRIPTION:No School!
URL:https://www.tvcacademy.org/event/spring-break-3/
LOCATION:ID
END:VEVENT
BEGIN:VEVENT
DTSTART;TZID=UTC:20240403T130000
DTEND;TZID=UTC:20240403T140000
DTSTAMP:20260423T085447
CREATED:20240307T165218Z
LAST-MODIFIED:20240307T165218Z
UID:8235-1712149200-1712152800@www.tvcacademy.org
SUMMARY:Peter Pan Performance for K-3
DESCRIPTION:Fine Arts Performance: Peter Pan for Grades K-3\nWednesday\, April 3⋅1:00 – 2:00pm
URL:https://www.tvcacademy.org/event/peter-pan-performance-for-k-3/
LOCATION:ID
END:VEVENT
BEGIN:VEVENT
DTSTART;TZID=UTC:20240403T190000
DTEND;TZID=UTC:20240403T200000
DTSTAMP:20260423T085447
CREATED:20240307T165358Z
LAST-MODIFIED:20240307T165358Z
UID:8237-1712170800-1712174400@www.tvcacademy.org
SUMMARY:Peter Pan for Parents (1st performance)
DESCRIPTION:Performance: Peter Pan for Parents (1st performance)\nWednesday\, April 3⋅7:00 – 8:00pm
URL:https://www.tvcacademy.org/event/peter-pan-for-parents-1st-performance/
LOCATION:ID
END:VEVENT
END:VCALENDAR