BEGIN:VCALENDAR
VERSION:2.0
PRODID:-//Treasure Valley Classical Academy - ECPv6.15.20//NONSGML v1.0//EN
CALSCALE:GREGORIAN
METHOD:PUBLISH
X-ORIGINAL-URL:https://www.tvcacademy.org
X-WR-CALDESC:Events for Treasure Valley Classical Academy
REFRESH-INTERVAL;VALUE=DURATION:PT1H
X-Robots-Tag:noindex
X-PUBLISHED-TTL:PT1H
BEGIN:VTIMEZONE
TZID:UTC
BEGIN:STANDARD
TZOFFSETFROM:+0000
TZOFFSETTO:+0000
TZNAME:UTC
DTSTART:20230101T000000
END:STANDARD
END:VTIMEZONE
BEGIN:VEVENT
DTSTART;TZID=UTC:20240517T190000
DTEND;TZID=UTC:20240517T210000
DTSTAMP:20260422T103328
CREATED:20240307T170140Z
LAST-MODIFIED:20240307T170348Z
UID:8249-1715972400-1715979600@www.tvcacademy.org
SUMMARY:Fine Arts Spring Event
DESCRIPTION:Fine Arts Spring Event\nFriday\, May 17⋅7:00 – 9:00pm
URL:https://www.tvcacademy.org/event/fine-arts-spring-event/
END:VEVENT
BEGIN:VEVENT
DTSTART;TZID=UTC:20240514T190000
DTEND;TZID=UTC:20240514T200000
DTSTAMP:20260422T103328
CREATED:20240513T183518Z
LAST-MODIFIED:20240513T200325Z
UID:8439-1715713200-1715716800@www.tvcacademy.org
SUMMARY:New Upper School Principal Meet-and-Greet!
DESCRIPTION:New Upper School Principal Meet-and-Greet! Tuesday\, May 14\, at 7pm. Come to the school to meet Mr. Philabaum our new upper school principal for next year! Ask questions and get to know him!
URL:https://www.tvcacademy.org/event/new-upper-school-principal-meet-and-greet/
END:VEVENT
BEGIN:VEVENT
DTSTART;TZID=UTC:20240507T190000
DTEND;TZID=UTC:20240507T200000
DTSTAMP:20260422T103328
CREATED:20240314T185436Z
LAST-MODIFIED:20240314T185454Z
UID:8267-1715108400-1715112000@www.tvcacademy.org
SUMMARY:Career Night!
DESCRIPTION:Come hear from a panel made up of persons from our own local workforce! \nIt will be a night designed to help our upper school student dream about possibilities for their future careers!
URL:https://www.tvcacademy.org/event/career-night/
END:VEVENT
BEGIN:VEVENT
DTSTART;VALUE=DATE:20240504
DTEND;VALUE=DATE:20240505
DTSTAMP:20260422T103328
CREATED:20240403T141336Z
LAST-MODIFIED:20240403T141336Z
UID:8290-1714780800-1714867199@www.tvcacademy.org
SUMMARY:TVCA Golf Scramble!
DESCRIPTION:
URL:https://www.tvcacademy.org/event/tvca-golf-scramble/
LOCATION:Scotch Pines Golf Course
END:VEVENT
BEGIN:VEVENT
DTSTART;VALUE=DATE:20240504
DTEND;VALUE=DATE:20240505
DTSTAMP:20260422T103328
CREATED:20240402T155315Z
LAST-MODIFIED:20240402T155315Z
UID:8283-1714780800-1714867199@www.tvcacademy.org
SUMMARY:Spring Fling Semi-Formal Dance\, Grades 9-10
DESCRIPTION:
URL:https://www.tvcacademy.org/event/spring-fling-semi-formal-dance-grades-9-10/
END:VEVENT
BEGIN:VEVENT
DTSTART;TZID=UTC:20240503T190000
DTEND;TZID=UTC:20240503T203000
DTSTAMP:20260422T103328
CREATED:20240429T184809Z
LAST-MODIFIED:20240429T184809Z
UID:8419-1714762800-1714768200@www.tvcacademy.org
SUMMARY:Twelfth Night Performance 2
DESCRIPTION:Twelfth Night Performance\nThursday\, May 2⋅7:00 – 8:00pm\nThe Timberwolf Troupe will be performing Shakespeare’s Twelfth Night this Thursday and Friday\, May 2 & 3\, at 7pm. A suggested donation to the theatre program of $5 is greatly appreciated at the door. Come enjoy the hard work of our TVCA theatre students!
URL:https://www.tvcacademy.org/event/twelfth-night-performance-2/
END:VEVENT
BEGIN:VEVENT
DTSTART;VALUE=DATE:20240503
DTEND;VALUE=DATE:20240504
DTSTAMP:20260422T103328
CREATED:20240307T165951Z
LAST-MODIFIED:20240307T165951Z
UID:8247-1714694400-1714780799@www.tvcacademy.org
SUMMARY:Spirit Day!
DESCRIPTION:
URL:https://www.tvcacademy.org/event/spirit-day-7/
END:VEVENT
BEGIN:VEVENT
DTSTART;TZID=UTC:20240502T190000
DTEND;TZID=UTC:20240502T203000
DTSTAMP:20260422T103328
CREATED:20240429T184659Z
LAST-MODIFIED:20240429T184659Z
UID:8416-1714676400-1714681800@www.tvcacademy.org
SUMMARY:Twelfth Night Performance
DESCRIPTION:Twelfth Night Performance\nThursday\, May 2⋅7:00 – 8:00pm\nThe Timberwolf Troupe will be performing Shakespeare’s Twelfth Night this Thursday and Friday\, May 2 & 3\, at 7pm. A suggested donation to the theatre program of $5 is greatly appreciated at the door. Come enjoy the hard work of our TVCA theatre students!
URL:https://www.tvcacademy.org/event/twelfth-night-performance/
END:VEVENT
BEGIN:VEVENT
DTSTART;TZID=UTC:20240501T074500
DTEND;TZID=UTC:20240503T151500
DTSTAMP:20260422T103328
CREATED:20240313T150624Z
LAST-MODIFIED:20240402T155119Z
UID:8255-1714549500-1714749300@www.tvcacademy.org
SUMMARY:Spring Fling
DESCRIPTION:Upper School dress up days!
URL:https://www.tvcacademy.org/event/spring-fling/
END:VEVENT
BEGIN:VEVENT
DTSTART;VALUE=DATE:20240429
DTEND;VALUE=DATE:20240430
DTSTAMP:20260422T103328
CREATED:20240314T182755Z
LAST-MODIFIED:20240314T182755Z
UID:8265-1714348800-1714435199@www.tvcacademy.org
SUMMARY:Faculty Work Day -- No school for students
DESCRIPTION:
URL:https://www.tvcacademy.org/event/faculty-work-day-no-school-for-students/
END:VEVENT
BEGIN:VEVENT
DTSTART;VALUE=DATE:20240426
DTEND;VALUE=DATE:20240427
DTSTAMP:20260422T103328
CREATED:20240314T182618Z
LAST-MODIFIED:20240314T182618Z
UID:8263-1714089600-1714175999@www.tvcacademy.org
SUMMARY:No School -- extended weekend
DESCRIPTION:
URL:https://www.tvcacademy.org/event/no-school-extended-weekend/
END:VEVENT
BEGIN:VEVENT
DTSTART;VALUE=DATE:20240425
DTEND;VALUE=DATE:20240426
DTSTAMP:20260422T103328
CREATED:20240209T155103Z
LAST-MODIFIED:20240403T140840Z
UID:8183-1714003200-1714089599@www.tvcacademy.org
SUMMARY:PTCA Movie Night!
DESCRIPTION:PTCA Spring Social Event on Thursday\, April 25\, 2024 \nThursday\, April 25 at the Parma Motor-vu Drive In. Free viewing of “Inside Out” and “We Bought A Zoo”. First movie starts at 9pm. Come enjoy this TVCA social event!
URL:https://www.tvcacademy.org/event/ptca-spring-social-event/
END:VEVENT
BEGIN:VEVENT
DTSTART;TZID=UTC:20240423T180000
DTEND;TZID=UTC:20240423T184500
DTSTAMP:20260422T103328
CREATED:20240408T150308Z
LAST-MODIFIED:20240409T145121Z
UID:8343-1713895200-1713897900@www.tvcacademy.org
SUMMARY:Yellowstone 2024 9th Grade Parent Meeting
DESCRIPTION:Yellowstone 2024 9th Grade Parent Meeting \nTuesday Apr 23\, 2024 ⋅ 6pm – 6:45pm \n  \nAll parents of rising Freshmen!  Come to this informational meeting to learn about the annual 9th grade field trip to Yellowstone National Park!
URL:https://www.tvcacademy.org/event/yellowstone-2024-9th-grade-parent-meeting/
END:VEVENT
BEGIN:VEVENT
DTSTART;TZID=UTC:20240409T190000
DTEND;TZID=UTC:20240409T203000
DTSTAMP:20260422T103328
CREATED:20240314T182136Z
LAST-MODIFIED:20240314T182136Z
UID:8261-1712689200-1712694600@www.tvcacademy.org
SUMMARY:Core Lecture Series\, by Mrs. Marshall
DESCRIPTION:Core Lecture Series#3 – Mrs. Marshall\nTuesday\, April 9⋅7:00 – 8:30pm
URL:https://www.tvcacademy.org/event/core-lecture-series-by-mrs-marshall/
END:VEVENT
BEGIN:VEVENT
DTSTART;VALUE=DATE:20240405
DTEND;VALUE=DATE:20240406
DTSTAMP:20260422T103328
CREATED:20240307T164913Z
LAST-MODIFIED:20240313T182721Z
UID:8232-1712275200-1712361599@www.tvcacademy.org
SUMMARY:Parent-Teacher Conferences (no school for students)
DESCRIPTION:
URL:https://www.tvcacademy.org/event/spirit-day-6/
END:VEVENT
BEGIN:VEVENT
DTSTART;TZID=UTC:20240404T190000
DTEND;TZID=UTC:20240404T200000
DTSTAMP:20260422T103328
CREATED:20240307T165712Z
LAST-MODIFIED:20240307T165748Z
UID:8242-1712257200-1712260800@www.tvcacademy.org
SUMMARY:Peter Pan for Parents (Performance #2)
DESCRIPTION:Parents Performance: Peter Pan (Troupe 2)\nThursday\, April 4⋅7:00 – 8:00pm
URL:https://www.tvcacademy.org/event/parents-performance-peter-pan-troupe-2/
END:VEVENT
BEGIN:VEVENT
DTSTART;TZID=UTC:20240404T130000
DTEND;TZID=UTC:20240404T140000
DTSTAMP:20260422T103328
CREATED:20240307T165548Z
LAST-MODIFIED:20240307T165548Z
UID:8239-1712235600-1712239200@www.tvcacademy.org
SUMMARY:Grades 4-6 Fine Arts Performance: Peter Pan (Troupe2)
DESCRIPTION:Grades 4-6 Fine Arts Performance: Peter Pan (Troupe2)\nThursday\, April 4⋅1:00 – 2:00pm
URL:https://www.tvcacademy.org/event/grades-4-6-fine-arts-performance-peter-pan-troupe2/
END:VEVENT
BEGIN:VEVENT
DTSTART;TZID=UTC:20240403T190000
DTEND;TZID=UTC:20240403T200000
DTSTAMP:20260422T103328
CREATED:20240307T165358Z
LAST-MODIFIED:20240307T165358Z
UID:8237-1712170800-1712174400@www.tvcacademy.org
SUMMARY:Peter Pan for Parents (1st performance)
DESCRIPTION:Performance: Peter Pan for Parents (1st performance)\nWednesday\, April 3⋅7:00 – 8:00pm
URL:https://www.tvcacademy.org/event/peter-pan-for-parents-1st-performance/
END:VEVENT
BEGIN:VEVENT
DTSTART;TZID=UTC:20240403T130000
DTEND;TZID=UTC:20240403T140000
DTSTAMP:20260422T103328
CREATED:20240307T165218Z
LAST-MODIFIED:20240307T165218Z
UID:8235-1712149200-1712152800@www.tvcacademy.org
SUMMARY:Peter Pan Performance for K-3
DESCRIPTION:Fine Arts Performance: Peter Pan for Grades K-3\nWednesday\, April 3⋅1:00 – 2:00pm
URL:https://www.tvcacademy.org/event/peter-pan-performance-for-k-3/
END:VEVENT
BEGIN:VEVENT
DTSTART;TZID=UTC:20240325T080000
DTEND;TZID=UTC:20240329T170000
DTSTAMP:20260422T103328
CREATED:20240124T175821Z
LAST-MODIFIED:20240124T175821Z
UID:8150-1711353600-1711731600@www.tvcacademy.org
SUMMARY:Spring Break
DESCRIPTION:No School!
URL:https://www.tvcacademy.org/event/spring-break-3/
END:VEVENT
BEGIN:VEVENT
DTSTART;VALUE=DATE:20240322
DTEND;VALUE=DATE:20240323
DTSTAMP:20260422T103328
CREATED:20240124T175654Z
LAST-MODIFIED:20240124T175654Z
UID:8148-1711065600-1711151999@www.tvcacademy.org
SUMMARY:Faculty Workday- No School
DESCRIPTION:Faculty Workday- No School\nFriday\, March 22
URL:https://www.tvcacademy.org/event/faculty-workday-no-school/
END:VEVENT
BEGIN:VEVENT
DTSTART;TZID=UTC:20240319T050000
DTEND;TZID=UTC:20240319T180000
DTSTAMP:20260422T103328
CREATED:20240124T175457Z
LAST-MODIFIED:20240124T175457Z
UID:8146-1710824400-1710871200@www.tvcacademy.org
SUMMARY:Choir Concert
DESCRIPTION:Choir Concert\nTuesday\, March 19⋅5:00 – 6:00pm
URL:https://www.tvcacademy.org/event/choir-concert/
END:VEVENT
BEGIN:VEVENT
DTSTART;TZID=UTC:20240318T170000
DTEND;TZID=UTC:20240318T180000
DTSTAMP:20260422T103328
CREATED:20240124T175327Z
LAST-MODIFIED:20240124T175512Z
UID:8144-1710781200-1710784800@www.tvcacademy.org
SUMMARY:Orchestra Concert
DESCRIPTION:Orchestra Concert\nMonday\, March 18⋅5:00 – 6:00pm
URL:https://www.tvcacademy.org/event/orchestra-concert/
END:VEVENT
BEGIN:VEVENT
DTSTART;VALUE=DATE:20240315
DTEND;VALUE=DATE:20240316
DTSTAMP:20260422T103328
CREATED:20231101T171413Z
LAST-MODIFIED:20231101T171413Z
UID:7947-1710460800-1710547199@www.tvcacademy.org
SUMMARY:Grandparents Day (save the date--more details to come!)
DESCRIPTION:
URL:https://www.tvcacademy.org/event/grandparents-day-save-the-date-more-details-to-come/
END:VEVENT
BEGIN:VEVENT
DTSTART;VALUE=DATE:20240312
DTEND;VALUE=DATE:20240313
DTSTAMP:20260422T103328
CREATED:20240208T181754Z
LAST-MODIFIED:20240208T181754Z
UID:8180-1710201600-1710287999@www.tvcacademy.org
SUMMARY:Enrollment Lottery
DESCRIPTION:More details coming soon.
URL:https://www.tvcacademy.org/event/enrollment-lottery/
END:VEVENT
BEGIN:VEVENT
DTSTART;TZID=UTC:20240311T190000
DTEND;TZID=UTC:20240311T200000
DTSTAMP:20260422T103328
CREATED:20240222T150809Z
LAST-MODIFIED:20240222T150809Z
UID:8216-1710183600-1710187200@www.tvcacademy.org
SUMMARY:Town Hall Meeting
DESCRIPTION:Topics of discussion will be Mid-year Survey Results and Upper School Expansion Update.
URL:https://www.tvcacademy.org/event/town-hall-meeting-3/
END:VEVENT
BEGIN:VEVENT
DTSTART;VALUE=DATE:20240301
DTEND;VALUE=DATE:20240302
DTSTAMP:20260422T103328
CREATED:20240207T165016Z
LAST-MODIFIED:20240207T165016Z
UID:8174-1709251200-1709337599@www.tvcacademy.org
SUMMARY:Lottery Application Period Closes
DESCRIPTION:
URL:https://www.tvcacademy.org/event/lottery-application-period-closes/
END:VEVENT
BEGIN:VEVENT
DTSTART;VALUE=DATE:20240301
DTEND;VALUE=DATE:20240302
DTSTAMP:20260422T103328
CREATED:20240124T174933Z
LAST-MODIFIED:20240124T174933Z
UID:8141-1709251200-1709337599@www.tvcacademy.org
SUMMARY:Spirit Day!
DESCRIPTION:
URL:https://www.tvcacademy.org/event/spirit-day-5/
END:VEVENT
BEGIN:VEVENT
DTSTART;TZID=UTC:20240227T190000
DTEND;TZID=UTC:20240227T203000
DTSTAMP:20260422T103328
CREATED:20240112T150624Z
LAST-MODIFIED:20240208T152926Z
UID:8084-1709060400-1709065800@www.tvcacademy.org
SUMMARY:College Night
DESCRIPTION:TVCA “College Night” — this is scheduled for February 27 at 7pm. All upper school families are especially encouraged to come hear from a panel of college representatives from three colleges (TVCC\, Boise State\, and Hillsdale College) who will be present to inspire and answer questions about attending college and planning for your future.
URL:https://www.tvcacademy.org/event/college-night/
END:VEVENT
BEGIN:VEVENT
DTSTART;TZID=UTC:20240227T133000
DTEND;TZID=UTC:20240227T150000
DTSTAMP:20260422T103328
CREATED:20240212T150540Z
LAST-MODIFIED:20240212T150540Z
UID:8190-1709040600-1709046000@www.tvcacademy.org
SUMMARY:Shakespeare Festival (Upper School)
DESCRIPTION:We have a wonderful opportunity to host the Idaho Shakespeare Festival at TVCA! They will be performing A Midsummer Night’s Dream on Tuesday\, Feb. 27 at 1:30pm for the enjoyment of our upper school students.
URL:https://www.tvcacademy.org/event/shakespeare-festival-upper-school/
END:VEVENT
END:VCALENDAR